BEGIN:VCALENDAR
VERSION:2.0
PRODID:-//eventon.com NONSGML v1.0//EN
BEGIN:VEVENT
UID:69eb90b6555cc
DTSTAMP:20260424T174806
DTSTART:20200801T060000Z
DTEND:20200808T110000Z
LOCATION:
SUMMARY:REPRISE DU CAMP D'ÉTÉ NOUVELLE FORMULE du 1er au 8 Août (Je réserve maintenant !)
DESCRIPTION:  CAMP D'ÉTÉ NOUVELLE FORMULE du 1er au 8 Août (Je réserve maintenant !) Chers amis ne tardez pas à réserver votre place pour ce merveilleux camp dans la puissance du Saint Esprit l'amour du Père\,  et la grâce de notre Seigneur Jésus-Christ. Vous avez besoin de vivre une Rencontre avec[..]
END:VEVENT
END:VCALENDAR